BEGIN:VCALENDAR
VERSION:2.0
PRODID:Imitheme.com 
BEGIN:VEVENT
UID:20260424T034818971026685
DTSTAMP;TZID=UTC:2026-04-24 03:48:18
DTSTART;TZID=America/Los_Angeles:20260424T034818
DTEND;TZID=America/Los_Angeles:20260424T034818
SUMMARY:Conference UDF
LOCATION:
DESCRIPTION:
URL:https://fhabco.org/post/conference-union-des-femmes-3/
END:VEVENT
END:VCALENDAR
