BEGIN:VCALENDAR
VERSION:2.0
PRODID:Imitheme.com 
BEGIN:VEVENT
UID:20260424T0038291557175230
DTSTAMP;TZID=UTC:2026-04-24 00:38:29
DTSTART;TZID=America/Los_Angeles:20260424T003829
DTEND;TZID=America/Los_Angeles:20260424T003829
SUMMARY:Church Revival 6 - 13
LOCATION:
DESCRIPTION:
URL:https://fhabco.org/post/church-revival-6-13-6/
END:VEVENT
END:VCALENDAR
