BEGIN:VCALENDAR
VERSION:2.0
PRODID:Imitheme.com 
BEGIN:VEVENT
UID:20260424T003803648423339
DTSTAMP;TZID=UTC:2026-04-24 00:38:03
DTSTART;TZID=America/Los_Angeles:20260424T003803
DTEND;TZID=America/Los_Angeles:20260424T003803
SUMMARY:Banquet Eglise De Dieu Apostolique
LOCATION:
DESCRIPTION:
URL:https://fhabco.org/post/banquet-eglise-de-dieu-apostolique/
END:VEVENT
END:VCALENDAR
