BEGIN:VCALENDAR
VERSION:2.0
PRODID:Imitheme.com 
BEGIN:VEVENT
UID:20260424T0330262106923617
DTSTAMP;TZID=UTC:2026-04-24 03:30:26
DTSTART;TZID=America/Los_Angeles:20260424T033026
DTEND;TZID=America/Los_Angeles:20260424T033026
SUMMARY:Church Revival 6 - 13
LOCATION:
DESCRIPTION:
URL:https://fhabco.org/post/church-revival-6-13-3/
END:VEVENT
END:VCALENDAR
