BEGIN:VCALENDAR
VERSION:2.0
PRODID:Imitheme.com 
BEGIN:VEVENT
UID:20260424T0016011590713468
DTSTAMP;TZID=UTC:2026-04-24 00:16:01
DTSTART;TZID=America/Los_Angeles:20260424T001601
DTEND;TZID=America/Los_Angeles:20260424T001601
SUMMARY:Church Revival 6 - 13
LOCATION:
DESCRIPTION:
URL:https://fhabco.org/post/church-revival-6-13/
END:VEVENT
END:VCALENDAR
