BEGIN:VCALENDAR
VERSION:2.0
PRODID:Imitheme.com 
BEGIN:VEVENT
UID:20260424T0340411850284270
DTSTAMP;TZID=UTC:2026-04-24 03:40:41
DTSTART;TZID=America/Los_Angeles:20260424T034041
DTEND;TZID=America/Los_Angeles:20260424T034041
SUMMARY:Wedding
LOCATION:
DESCRIPTION:
URL:https://fhabco.org/post/wedding/
END:VEVENT
END:VCALENDAR
