BEGIN:VCALENDAR
VERSION:2.0
PRODID:Imitheme.com 
BEGIN:VEVENT
UID:20260424T0036442073585632
DTSTAMP;TZID=UTC:2026-04-24 00:36:44
DTSTART;TZID=America/Los_Angeles:20260424T003644
DTEND;TZID=America/Los_Angeles:20260424T003644
SUMMARY:Church Anniversary
LOCATION:
DESCRIPTION:
URL:https://fhabco.org/post/church-anniversary/
END:VEVENT
END:VCALENDAR
