BEGIN:VCALENDAR
VERSION:2.0
PRODID:Imitheme.com 
BEGIN:VEVENT
UID:20260424T0033311652399336
DTSTAMP;TZID=UTC:2026-04-24 00:33:31
DTSTART;TZID=America/Los_Angeles:20260424T003331
DTEND;TZID=America/Los_Angeles:20260424T003331
SUMMARY:Church Anniversary Revival
LOCATION:
DESCRIPTION:
URL:https://fhabco.org/post/church-anniversary-revival-4/
END:VEVENT
END:VCALENDAR
