BEGIN:VCALENDAR
VERSION:2.0
PRODID:Imitheme.com 
BEGIN:VEVENT
UID:20260424T0017401280511305
DTSTAMP;TZID=UTC:2026-04-24 00:17:40
DTSTART;TZID=America/Los_Angeles:20260424T001740
DTEND;TZID=America/Los_Angeles:20260424T001740
SUMMARY:HMI
LOCATION:
DESCRIPTION:
URL:https://fhabco.org/post/hmi/
END:VEVENT
END:VCALENDAR
