BEGIN:VCALENDAR
VERSION:2.0
PRODID:Imitheme.com 
BEGIN:VEVENT
UID:20260424T0024141371189633
DTSTAMP;TZID=UTC:2026-04-24 00:24:14
DTSTART;TZID=America/Los_Angeles:20260424T002414
DTEND;TZID=America/Los_Angeles:20260424T002414
SUMMARY:Pastors And Wives Conference
LOCATION:
DESCRIPTION:
URL:https://fhabco.org/post/pastors-and-wives-conference-2/
END:VEVENT
END:VCALENDAR
