BEGIN:VCALENDAR
VERSION:2.0
PRODID:Imitheme.com 
BEGIN:VEVENT
UID:20260424T0035151197189620
DTSTAMP;TZID=UTC:2026-04-24 00:35:15
DTSTART;TZID=America/Los_Angeles:20260424T003515
DTEND;TZID=America/Los_Angeles:20260424T003515
SUMMARY:End Of year Thanksgiving Revival
LOCATION:
DESCRIPTION:
URL:https://fhabco.org/post/end-of-year-thanksgiving-revival/
END:VEVENT
END:VCALENDAR
