BEGIN:VCALENDAR
VERSION:2.0
PRODID:Imitheme.com 
BEGIN:VEVENT
UID:20260424T001220579257426
DTSTAMP;TZID=UTC:2026-04-24 00:12:20
DTSTART;TZID=America/Los_Angeles:20260424T001220
DTEND;TZID=America/Los_Angeles:20260424T001220
SUMMARY:Usher Fellowship Evening
LOCATION:
DESCRIPTION:
URL:https://fhabco.org/post/usher-fellowship-evening/
END:VEVENT
END:VCALENDAR
