BEGIN:VCALENDAR
VERSION:2.0
PRODID:Imitheme.com 
BEGIN:VEVENT
UID:20260424T001412413913275
DTSTAMP;TZID=UTC:2026-04-24 00:14:12
DTSTART;TZID=America/Los_Angeles:20260424T001412
DTEND;TZID=America/Los_Angeles:20260424T001412
SUMMARY:Funeral
LOCATION:
DESCRIPTION:
URL:https://fhabco.org/post/funeral/
END:VEVENT
END:VCALENDAR
